BEGIN:VCALENDAR
VERSION:2.0
PRODID:-//OmniMagnetCalendar//EN
BEGIN:VEVENT
DTSTAMP:20190625T195740Z
STATUS:CONFIRMED
UID:hrcrochester.clubs.harvard.edu189
DTSTART:20250201T233000Z
DTEND:
LOCATION:
SUMMARY:The All Ivy Gala ((cancelled))
DESCRIPTION:Due to unforeseen circumstances, The All Ivy Gala 2025 has been canceled. For those who submitted reservations, checks will be returned, and refunds for Venmo payments will be processed as soon as possible. If you have any questions, please contact Isabel
BEGIN:VALARM
TRIGGER:-PT15M
ACTION:DISPLAY
END:VALARM
TRANSP:OPAQUE
END:VEVENT
END:VCALENDAR
