BEGIN:VCALENDAR
VERSION:2.0
PRODID:-//OmniMagnetCalendar//EN
BEGIN:VEVENT
DTSTAMP:20190625T195740Z
STATUS:CONFIRMED
UID:hrcrochester.clubs.harvard.edu188
DTSTART:20241009T230000Z
DTEND:20241011T010000Z
LOCATION:
SUMMARY:2024 Fall Forum
DESCRIPTION:A discussion of the upcoming presidential election featuring David A. Hopkins (A.B. ’99), Associate Professor of Political Science at Boston College
BEGIN:VALARM
TRIGGER:-PT15M
ACTION:DISPLAY
END:VALARM
TRANSP:OPAQUE
END:VEVENT
END:VCALENDAR
