BEGIN:VCALENDAR
VERSION:2.0
PRODID:-//OmniMagnetCalendar//EN
BEGIN:VEVENT
DTSTAMP:20190625T195740Z
STATUS:CONFIRMED
UID:hrcrochester.clubs.harvard.edu187
DTSTART:20240626T220000Z
DTEND:
LOCATION:Rochester Academy of Medicine,
SUMMARY:2024 Harvard-Radcliffe Club of Rochester Annual Meeting
DESCRIPTION:
BEGIN:VALARM
TRIGGER:-PT15M
ACTION:DISPLAY
END:VALARM
TRANSP:OPAQUE
END:VEVENT
END:VCALENDAR
