BEGIN:VCALENDAR
VERSION:2.0
PRODID:-//OmniMagnetCalendar//EN
BEGIN:VEVENT
DTSTAMP:20190625T195740Z
STATUS:CONFIRMED
UID:hrcrochester.clubs.harvard.edu186
DTSTART:20240324T203000Z
DTEND:20240324T223000Z
LOCATION:Strasenburgh Planetarium, The Rochester Museum and Science Center, 663 East Avenue, Rochester, NY, 14607,
SUMMARY:HYP: Great Eclipse of 2024
DESCRIPTION:
BEGIN:VALARM
TRIGGER:-PT15M
ACTION:DISPLAY
END:VALARM
TRANSP:OPAQUE
END:VEVENT
END:VCALENDAR
