BEGIN:VCALENDAR
VERSION:2.0
PRODID:-//OmniMagnetCalendar//EN
BEGIN:VEVENT
DTSTAMP:20190625T195740Z
STATUS:CONFIRMED
UID:hrcrochester.clubs.harvard.edu185
DTSTART:20231216T230000Z
DTEND:20231217T040000Z
LOCATION:The Jackrabbit Club, 40 Anderson Ave, Rochester, NY, 14607,
SUMMARY:The All-Ivy Ball 2023
DESCRIPTION:
BEGIN:VALARM
TRIGGER:-PT15M
ACTION:DISPLAY
END:VALARM
TRANSP:OPAQUE
END:VEVENT
END:VCALENDAR
