BEGIN:VCALENDAR
VERSION:2.0
PRODID:-//OmniMagnetCalendar//EN
BEGIN:VEVENT
DTSTAMP:20190625T195740Z
STATUS:CONFIRMED
UID:hrcrochester.clubs.harvard.edu184
DTSTART:20231118T170000Z
DTEND:20231118T200000Z
LOCATION:The Distillery Restaurant Mt. Hope, 1142 Mt Hope Ave, Rochester, NY, 14620,
SUMMARY:The Game 2023: Watch Party @ The Distillery
DESCRIPTION:
BEGIN:VALARM
TRIGGER:-PT15M
ACTION:DISPLAY
END:VALARM
TRANSP:OPAQUE
END:VEVENT
END:VCALENDAR
