BEGIN:VCALENDAR
VERSION:2.0
PRODID:-//OmniMagnetCalendar//EN
BEGIN:VEVENT
DTSTAMP:20190625T195740Z
STATUS:CONFIRMED
UID:hrcrochester.clubs.harvard.edu181
DTSTART:20221116T000000Z
DTEND:20221116T020000Z
LOCATION:Rochester Academy of Medicine, 1441 East Avenue, Rochester, NY,
SUMMARY:Fall Forum 2022
DESCRIPTION:National Service in the 21st Century: Featured speaker Mark Gearan
BEGIN:VALARM
TRIGGER:-PT15M
ACTION:DISPLAY
END:VALARM
TRANSP:OPAQUE
END:VEVENT
END:VCALENDAR
