BEGIN:VCALENDAR
VERSION:2.0
PRODID:-//OmniMagnetCalendar//EN
BEGIN:VEVENT
DTSTAMP:20190625T195740Z
STATUS:CONFIRMED
UID:hrcrochester.clubs.harvard.edu162
DTSTART:20191123T170000Z
DTEND:20191123T210000Z
LOCATION:The Distillery, Mt. Hope Avenue, Rochester, NY,
SUMMARY:"The Game" - Harvard v. Yale 11/23/19 @ The Distillery on Mt Hope
DESCRIPTION:
BEGIN:VALARM
TRIGGER:-PT15M
ACTION:DISPLAY
END:VALARM
TRANSP:OPAQUE
END:VEVENT
END:VCALENDAR
