BEGIN:VCALENDAR
VERSION:2.0
PRODID:-//OmniMagnetCalendar//EN
BEGIN:VEVENT
DTSTAMP:20190625T195740Z
STATUS:CONFIRMED
UID:hrcrochester.clubs.harvard.edu159
DTSTART:20190629T210000Z
DTEND:20190630T205500Z
LOCATION:
SUMMARY:2019 HRCR Annual Meeting and Dinner: Recap and Pictures
DESCRIPTION:
BEGIN:VALARM
TRIGGER:-PT15M
ACTION:DISPLAY
END:VALARM
TRANSP:OPAQUE
END:VEVENT
END:VCALENDAR
