BEGIN:VCALENDAR
VERSION:2.0
PRODID:-//OmniMagnetCalendar//EN
BEGIN:VEVENT
DTSTAMP:20190625T195740Z
STATUS:CONFIRMED
UID:hrcrochester.clubs.harvard.edu149
DTSTART:20180612T192600Z
DTEND:20180612T192600Z
LOCATION:Country Club of Rochester,
SUMMARY:Harvard-Radcliffe Club of Rochester Annual Meeting and Dinner 2018
DESCRIPTION:
BEGIN:VALARM
TRIGGER:-PT15M
ACTION:DISPLAY
END:VALARM
TRANSP:OPAQUE
END:VEVENT
END:VCALENDAR
