BEGIN:VCALENDAR
VERSION:2.0
PRODID:-//OmniMagnetCalendar//EN
BEGIN:VEVENT
DTSTAMP:20190625T195740Z
STATUS:CONFIRMED
UID:hrcrochester.clubs.harvard.edu135
DTSTART:20170517T142100Z
DTEND:20170517T170000Z
LOCATION:Country Club of Rochester, 2935 East Avenue, Rochester, NY,
SUMMARY:2017 Annual Meeting and Dinner
DESCRIPTION:Keynote: Ali Asani, Ph.D., Professor, Harvard University "Understanding Islam: Beyond the Headlines"  Email the HRCR (Harvard.club.rochester@gmail.com) for an invitation and response form.
BEGIN:VALARM
TRIGGER:-PT15M
ACTION:DISPLAY
END:VALARM
TRANSP:OPAQUE
END:VEVENT
END:VCALENDAR
