BEGIN:VCALENDAR
VERSION:2.0
PRODID:-//OmniMagnetCalendar//EN
BEGIN:VEVENT
DTSTAMP:20190625T195740Z
STATUS:CONFIRMED
UID:hrcrochester.clubs.harvard.edu133
DTSTART:20170323T153000Z
DTEND:20170323T173000Z
LOCATION:The Country Club of Rochester, 2935 East Avenue, Rochester, NY, 14610,
SUMMARY:Spring Forum 2017 - David Moss
DESCRIPTION:
BEGIN:VALARM
TRIGGER:-PT15M
ACTION:DISPLAY
END:VALARM
TRANSP:OPAQUE
END:VEVENT
END:VCALENDAR
